BEGIN:VCALENDAR
VERSION:2.0
PRODID:-//Chi Alpha at UD - ECPv6.15.12.2//NONSGML v1.0//EN
CALSCALE:GREGORIAN
METHOD:PUBLISH
X-WR-CALNAME:Chi Alpha at UD
X-ORIGINAL-URL:https://xaudel.org
X-WR-CALDESC:Events for Chi Alpha at UD
REFRESH-INTERVAL;VALUE=DURATION:PT1H
X-Robots-Tag:noindex
X-PUBLISHED-TTL:PT1H
BEGIN:VTIMEZONE
TZID:America/New_York
BEGIN:DAYLIGHT
TZOFFSETFROM:-0500
TZOFFSETTO:-0400
TZNAME:EDT
DTSTART:20230312T070000
END:DAYLIGHT
BEGIN:STANDARD
TZOFFSETFROM:-0400
TZOFFSETTO:-0500
TZNAME:EST
DTSTART:20231105T060000
END:STANDARD
BEGIN:DAYLIGHT
TZOFFSETFROM:-0500
TZOFFSETTO:-0400
TZNAME:EDT
DTSTART:20240310T070000
END:DAYLIGHT
BEGIN:STANDARD
TZOFFSETFROM:-0400
TZOFFSETTO:-0500
TZNAME:EST
DTSTART:20241103T060000
END:STANDARD
BEGIN:DAYLIGHT
TZOFFSETFROM:-0500
TZOFFSETTO:-0400
TZNAME:EDT
DTSTART:20250309T070000
END:DAYLIGHT
BEGIN:STANDARD
TZOFFSETFROM:-0400
TZOFFSETTO:-0500
TZNAME:EST
DTSTART:20251102T060000
END:STANDARD
END:VTIMEZONE
BEGIN:VEVENT
DTSTART;TZID=America/New_York:20240827T183000
DTEND;TZID=America/New_York:20240827T210000
DTSTAMP:20260419T105844
CREATED:20240824T180800Z
LAST-MODIFIED:20240824T180800Z
UID:916-1724783400-1724792400@xaudel.org
SUMMARY:Free Pizza Dinner
DESCRIPTION:Join us for a FREE welcome back pizza dinner. You will need to text your RSVP (717.283.6493) by 5pm on Tuesday Aug. 27th to reserve a seat. Let us know your name and how many will be attending in your group…
URL:https://xaudel.org/event/free-pizza-dinner/
LOCATION:Grotto’s on Main St.
ORGANIZER;CN="Chi Alpha":MAILTO:chialpha@udel.edu
END:VEVENT
BEGIN:VEVENT
DTSTART;TZID=America/New_York:20240826T130000
DTEND;TZID=America/New_York:20240826T160000
DTSTAMP:20260419T105844
CREATED:20240824T180407Z
LAST-MODIFIED:20240824T180407Z
UID:913-1724677200-1724688000@xaudel.org
SUMMARY:Involvement Fair
DESCRIPTION:Hang out on the Green in front of Cannon Hall
URL:https://xaudel.org/event/involvement-fair/
LOCATION:Cannon Hall\, 269 The Green\, Newark\, 19716\, United States
END:VEVENT
END:VCALENDAR